BEGIN:VCALENDAR
VERSION:2.0
PRODID:-//リトミック&amp;ピアノ音楽教室 music room flowers - ECPv6.3.3.1//NONSGML v1.0//EN
CALSCALE:GREGORIAN
METHOD:PUBLISH
X-WR-CALNAME:リトミック&amp;ピアノ音楽教室 music room flowers
X-ORIGINAL-URL:https://music773.com
X-WR-CALDESC:リトミック&amp;ピアノ音楽教室 music room flowers のイベント
REFRESH-INTERVAL;VALUE=DURATION:PT1H
X-Robots-Tag:noindex
X-PUBLISHED-TTL:PT1H
BEGIN:VTIMEZONE
TZID:Asia/Tokyo
BEGIN:STANDARD
TZOFFSETFROM:+0900
TZOFFSETTO:+0900
TZNAME:JST
DTSTART:20240101T000000
END:STANDARD
END:VTIMEZONE
BEGIN:VEVENT
DTSTART;TZID=Asia/Tokyo:20240226T100000
DTEND;TZID=Asia/Tokyo:20240226T110000
DTSTAMP:20260422T182036
CREATED:20240125T083520Z
LAST-MODIFIED:20240125T083520Z
UID:4580-1708941600-1708945200@music773.com
SUMMARY:こどもの園こひつじ　2月26日(月)
DESCRIPTION:保育園内リトミック\n【場所】こどもの園こひつじ\n【日程】月曜日 10:00〜11:00 \nお問い合わせはこちらからお願いいたします。
URL:https://music773.com/events/%e3%81%93%e3%81%a9%e3%82%82%e3%81%ae%e5%9c%92%e3%81%93%e3%81%b2%e3%81%a4%e3%81%98%e3%80%802%e6%9c%8826%e6%97%a5%e6%9c%88/
CATEGORIES:こどもの園こひつじ
ATTACH;FMTTYPE=image/png:https://music773.com/wp-content/uploads/2024/01/こども園こひつじアイキャッチ画像.png
END:VEVENT
BEGIN:VEVENT
DTSTART;TZID=Asia/Tokyo:20240226T140000
DTEND;TZID=Asia/Tokyo:20240226T170000
DTSTAMP:20260422T182036
CREATED:20240125T103332Z
LAST-MODIFIED:20240125T103332Z
UID:4617-1708956000-1708966800@music773.com
SUMMARY:富世学舎　年長　2月26日(月)
DESCRIPTION:保育園内リトミック\n【場所】富世学舎\n【日程】月曜日 14:00〜17:00\n【対象】年長 \nお問い合わせはこちらからお願いいたします。
URL:https://music773.com/events/%e5%af%8c%e4%b8%96%e5%ad%a6%e8%88%8e%e3%80%80%e5%b9%b4%e9%95%b7%e3%80%802%e6%9c%8826%e6%97%a5%e6%9c%88/
CATEGORIES:富世学舎
ATTACH;FMTTYPE=image/png:https://music773.com/wp-content/uploads/2024/01/富世学舎アイキャッチ画像.png
END:VEVENT
END:VCALENDAR