BEGIN:VCALENDAR
VERSION:2.0
PRODID:-//リトミック&amp;ピアノ音楽教室 music room flowers - ECPv6.3.3.1//NONSGML v1.0//EN
CALSCALE:GREGORIAN
METHOD:PUBLISH
X-WR-CALNAME:リトミック&amp;ピアノ音楽教室 music room flowers
X-ORIGINAL-URL:https://music773.com
X-WR-CALDESC:リトミック&amp;ピアノ音楽教室 music room flowers のイベント
REFRESH-INTERVAL;VALUE=DURATION:PT1H
X-Robots-Tag:noindex
X-PUBLISHED-TTL:PT1H
BEGIN:VTIMEZONE
TZID:Asia/Tokyo
BEGIN:STANDARD
TZOFFSETFROM:+0900
TZOFFSETTO:+0900
TZNAME:JST
DTSTART:20240101T000000
END:STANDARD
END:VTIMEZONE
BEGIN:VEVENT
DTSTART;TZID=Asia/Tokyo:20240307T100000
DTEND;TZID=Asia/Tokyo:20240307T104500
DTSTAMP:20260422T200041
CREATED:20240123T111217Z
LAST-MODIFIED:20240123T111217Z
UID:4507-1709805600-1709808300@music773.com
SUMMARY:アンテプリマリトミック　ベビークラス体験会　3月7日(木)
DESCRIPTION:体験会申し込み受付中！\n\n\n\n\n【クラス】ベビークラス\n【日程】3月7日(木)　10:00 ~ 10:45\n【場所】アンテプリマ バレエ＆ダンス 本校 \n\n\n\nお問い合わせはこちらからお願いいたします。
URL:https://music773.com/events/%e3%82%a2%e3%83%b3%e3%83%86%e3%83%97%e3%83%aa%e3%83%9e%e3%83%aa%e3%83%88%e3%83%9f%e3%83%83%e3%82%af%e3%80%80%e3%83%99%e3%83%93%e3%83%bc%e3%82%af%e3%83%a9%e3%82%b9%e4%bd%93%e9%a8%93%e4%bc%9a%e3%80%803/
CATEGORIES:アンテプリマリトミック
ATTACH;FMTTYPE=image/png:https://music773.com/wp-content/uploads/2024/01/アンテプリマリトミックアイキャッチ画像.png
END:VEVENT
BEGIN:VEVENT
DTSTART;TZID=Asia/Tokyo:20240307T110000
DTEND;TZID=Asia/Tokyo:20240307T114500
DTSTAMP:20260422T200041
CREATED:20240123T111722Z
LAST-MODIFIED:20240123T111722Z
UID:4510-1709809200-1709811900@music773.com
SUMMARY:アンテプリマリトミック　キッズクラス体験会　3月7日(木)
DESCRIPTION:体験会申し込み受付中！\n\n\n\n\n【クラス】キッズクラス\n【日程】3月7日(木)　11:00 ~ 11:45\n【場所】アンテプリマ バレエ＆ダンス 本校 \n\n\n\nお問い合わせはこちらからお願いいたします。
URL:https://music773.com/events/%e3%82%a2%e3%83%b3%e3%83%86%e3%83%97%e3%83%aa%e3%83%9e%e3%83%aa%e3%83%88%e3%83%9f%e3%83%83%e3%82%af%e3%80%80%e3%82%ad%e3%83%83%e3%82%ba%e3%82%af%e3%83%a9%e3%82%b9%e4%bd%93%e9%a8%93%e4%bc%9a%e3%80%803/
CATEGORIES:アンテプリマリトミック
ATTACH;FMTTYPE=image/png:https://music773.com/wp-content/uploads/2024/01/アンテプリマリトミックアイキャッチ画像.png
END:VEVENT
BEGIN:VEVENT
DTSTART;TZID=Asia/Tokyo:20240311T100000
DTEND;TZID=Asia/Tokyo:20240311T110000
DTSTAMP:20260422T200041
CREATED:20240310T023411Z
LAST-MODIFIED:20240310T023411Z
UID:4693-1710151200-1710154800@music773.com
SUMMARY:こどもの園こひつじ
DESCRIPTION:保育園内リトミック\n【場所】こどもの園こひつじ\n【日程】月曜日 10:00〜11:00 \nお問い合わせはこちらからお願いいたします。
URL:https://music773.com/events/%e3%81%93%e3%81%a9%e3%82%82%e3%81%ae%e5%9c%92%e3%81%93%e3%81%b2%e3%81%a4%e3%81%98-2/
CATEGORIES:こどもの園こひつじ
ATTACH;FMTTYPE=image/png:https://music773.com/wp-content/uploads/2024/01/こども園こひつじアイキャッチ画像.png
END:VEVENT
BEGIN:VEVENT
DTSTART;TZID=Asia/Tokyo:20240311T130000
DTEND;TZID=Asia/Tokyo:20240311T170000
DTSTAMP:20260422T200041
CREATED:20240310T020803Z
LAST-MODIFIED:20240310T021911Z
UID:4681-1710162000-1710176400@music773.com
SUMMARY:富世学舎　年長
DESCRIPTION:保育園内リトミック\n【場所】富世学舎\n【日程】月曜日 13:00〜17:00\n【対象】年長 \nお問い合わせはこちらからお願いいたします。
URL:https://music773.com/events/%e5%af%8c%e4%b8%96%e5%ad%a6%e8%88%8e%e3%80%80%e5%b9%b4%e9%95%b7/
CATEGORIES:富世学舎
ATTACH;FMTTYPE=image/png:https://music773.com/wp-content/uploads/2024/01/富世学舎アイキャッチ画像.png
END:VEVENT
BEGIN:VEVENT
DTSTART;TZID=Asia/Tokyo:20240313T100000
DTEND;TZID=Asia/Tokyo:20240313T110000
DTSTAMP:20260422T200041
CREATED:20240310T023010Z
LAST-MODIFIED:20240310T023010Z
UID:4689-1710324000-1710327600@music773.com
SUMMARY:スマイル保育園
DESCRIPTION:保育園内リトミック\n【場所】スマイル保育園\n【日程】水曜日 10:00〜11:00 \nお問い合わせはこちらからお願いいたします。
URL:https://music773.com/events/%e3%82%b9%e3%83%9e%e3%82%a4%e3%83%ab%e4%bf%9d%e8%82%b2%e5%9c%92-2/
CATEGORIES:スマイル保育園
ATTACH;FMTTYPE=image/png:https://music773.com/wp-content/uploads/2024/01/スマイル保育園アイキャッチ画像.png
END:VEVENT
BEGIN:VEVENT
DTSTART;TZID=Asia/Tokyo:20240313T140000
DTEND;TZID=Asia/Tokyo:20240313T170000
DTSTAMP:20260422T200041
CREATED:20240310T020358Z
LAST-MODIFIED:20240310T020358Z
UID:4677-1710338400-1710349200@music773.com
SUMMARY:富世学舎　年少　年中
DESCRIPTION:保育園内リトミック\n【場所】富世学舎\n【日程】水曜日 14:00〜17:00\n【対象】年少・年中 \nお問い合わせはこちらからお願いいたします。
URL:https://music773.com/events/%e5%af%8c%e4%b8%96%e5%ad%a6%e8%88%8e%e3%80%80%e5%b9%b4%e5%b0%91%e3%80%80%e5%b9%b4%e4%b8%ad-2/
CATEGORIES:富世学舎
ATTACH;FMTTYPE=image/png:https://music773.com/wp-content/uploads/2024/01/富世学舎アイキャッチ画像.png
END:VEVENT
BEGIN:VEVENT
DTSTART;TZID=Asia/Tokyo:20240318T100000
DTEND;TZID=Asia/Tokyo:20240318T110000
DTSTAMP:20260422T200041
CREATED:20240310T023540Z
LAST-MODIFIED:20240310T023540Z
UID:4695-1710756000-1710759600@music773.com
SUMMARY:こどもの園こひつじ
DESCRIPTION:保育園内リトミック\n【場所】こどもの園こひつじ\n【日程】月曜日 10:00〜11:00 \nお問い合わせはこちらからお願いいたします。
URL:https://music773.com/events/%e3%81%93%e3%81%a9%e3%82%82%e3%81%ae%e5%9c%92%e3%81%93%e3%81%b2%e3%81%a4%e3%81%98-3/
CATEGORIES:こどもの園こひつじ
END:VEVENT
BEGIN:VEVENT
DTSTART;TZID=Asia/Tokyo:20240318T130000
DTEND;TZID=Asia/Tokyo:20240318T170000
DTSTAMP:20260422T200041
CREATED:20240310T022610Z
LAST-MODIFIED:20240310T022610Z
UID:4685-1710766800-1710781200@music773.com
SUMMARY:富世学舎
DESCRIPTION:保育園内リトミック\n【場所】富世学舎\n【日程】月曜日 13:00〜17:00\n【対象】年長 \nお問い合わせはこちらからお願いいたします。
URL:https://music773.com/events/%e5%af%8c%e4%b8%96%e5%ad%a6%e8%88%8e/
CATEGORIES:富世学舎
ATTACH;FMTTYPE=image/png:https://music773.com/wp-content/uploads/2024/01/富世学舎アイキャッチ画像.png
END:VEVENT
BEGIN:VEVENT
DTSTART;TZID=Asia/Tokyo:20240319T111500
DTEND;TZID=Asia/Tokyo:20240319T120000
DTSTAMP:20260422T200041
CREATED:20240310T015708Z
LAST-MODIFIED:20240310T015708Z
UID:4673-1710846900-1710849600@music773.com
SUMMARY:音癒リトミック　キッズクラス
DESCRIPTION:【満席 定員６組】\n【クラス】キッズクラス（歩行安定〜3歳）\n【日程】　火曜日　月2回　11:15 ~ 12:00\n【料金】　月額3\,000円\n【場所】　音癒リトミック \nお問い合わせはこちらからお願いいたします。
URL:https://music773.com/events/%e9%9f%b3%e7%99%92%e3%83%aa%e3%83%88%e3%83%9f%e3%83%83%e3%82%af%e3%80%80%e3%82%ad%e3%83%83%e3%82%ba%e3%82%af%e3%83%a9%e3%82%b9-2/
CATEGORIES:音癒リトミック
ATTACH;FMTTYPE=image/png:https://music773.com/wp-content/uploads/2024/01/音癒リトミックアイキャッチ画像.png
END:VEVENT
BEGIN:VEVENT
DTSTART;TZID=Asia/Tokyo:20240325T100000
DTEND;TZID=Asia/Tokyo:20240325T110000
DTSTAMP:20260422T200041
CREATED:20240310T023852Z
LAST-MODIFIED:20240310T023852Z
UID:4699-1711360800-1711364400@music773.com
SUMMARY:こどもの園こひつじ
DESCRIPTION:保育園内リトミック\n【場所】こどもの園こひつじ\n【日程】月曜日 10:00〜11:00 \nお問い合わせはこちらからお願いいたします。
URL:https://music773.com/events/%e3%81%93%e3%81%a9%e3%82%82%e3%81%ae%e5%9c%92%e3%81%93%e3%81%b2%e3%81%a4%e3%81%98-5/
CATEGORIES:こどもの園こひつじ
ATTACH;FMTTYPE=image/png:https://music773.com/wp-content/uploads/2024/01/こども園こひつじアイキャッチ画像.png
END:VEVENT
BEGIN:VEVENT
DTSTART;TZID=Asia/Tokyo:20240327T140000
DTEND;TZID=Asia/Tokyo:20240327T170000
DTSTAMP:20260422T200041
CREATED:20240310T020529Z
LAST-MODIFIED:20240310T020529Z
UID:4679-1711548000-1711558800@music773.com
SUMMARY:富世学舎　年少　年中
DESCRIPTION:保育園内リトミック\n【場所】富世学舎\n【日程】水曜日 14:00〜17:00\n【対象】年少・年中 \nお問い合わせはこちらからお願いいたします。
URL:https://music773.com/events/%e5%af%8c%e4%b8%96%e5%ad%a6%e8%88%8e%e3%80%80%e5%b9%b4%e5%b0%91%e3%80%80%e5%b9%b4%e4%b8%ad-3/
CATEGORIES:富世学舎
ATTACH;FMTTYPE=image/png:https://music773.com/wp-content/uploads/2024/01/富世学舎アイキャッチ画像.png
END:VEVENT
BEGIN:VEVENT
DTSTART;TZID=Asia/Tokyo:20240331T103000
DTEND;TZID=Asia/Tokyo:20240331T143000
DTSTAMP:20260422T200041
CREATED:20240309T053251Z
LAST-MODIFIED:20240310T015334Z
UID:4659-1711881000-1711895400@music773.com
SUMMARY:アートリトミック
DESCRIPTION:3月31日(月・祝)は、2部制です!\n1部10:30 ~ 11:30　2部13:30～14:30\nに開催します。\n月一回開催中！リトミックとアートを組み合わせた新感覚のイベントです♫\n自由な発想で思いっきり頭と体を動かして遊びましょう！ \nお問い合わせはこちらからお願いいたします。
URL:https://music773.com/events/%e9%9f%b3%e7%99%92%e3%83%aa%e3%83%88%e3%83%9f%e3%83%83%e3%82%af/
CATEGORIES:アートリトミック
ATTACH;FMTTYPE=image/png:https://music773.com/wp-content/uploads/2024/01/アートリトミックアイキャッチ画像.png
END:VEVENT
BEGIN:VEVENT
DTSTART;TZID=Asia/Tokyo:20240401T100000
DTEND;TZID=Asia/Tokyo:20240401T110000
DTSTAMP:20260422T200041
CREATED:20240310T023711Z
LAST-MODIFIED:20240310T024102Z
UID:4697-1711965600-1711969200@music773.com
SUMMARY:こどもの園こひつじ
DESCRIPTION:保育園内リトミック\n【場所】こどもの園こひつじ\n【日程】月曜日 10:00〜11:00 \nお問い合わせはこちらからお願いいたします。
URL:https://music773.com/events/%e3%81%93%e3%81%a9%e3%82%82%e3%81%ae%e5%9c%92%e3%81%93%e3%81%b2%e3%81%a4%e3%81%98-4/
CATEGORIES:こどもの園こひつじ
ATTACH;FMTTYPE=image/png:https://music773.com/wp-content/uploads/2024/01/こども園こひつじアイキャッチ画像.png
END:VEVENT
END:VCALENDAR