BEGIN:VCALENDAR
VERSION:2.0
PRODID:-//リトミック&amp;ピアノ音楽教室 music room flowers - ECPv6.3.3.1//NONSGML v1.0//EN
CALSCALE:GREGORIAN
METHOD:PUBLISH
X-WR-CALNAME:リトミック&amp;ピアノ音楽教室 music room flowers
X-ORIGINAL-URL:https://music773.com
X-WR-CALDESC:リトミック&amp;ピアノ音楽教室 music room flowers のイベント
REFRESH-INTERVAL;VALUE=DURATION:PT1H
X-Robots-Tag:noindex
X-PUBLISHED-TTL:PT1H
BEGIN:VTIMEZONE
TZID:Asia/Tokyo
BEGIN:STANDARD
TZOFFSETFROM:+0900
TZOFFSETTO:+0900
TZNAME:JST
DTSTART:20240101T000000
END:STANDARD
END:VTIMEZONE
BEGIN:VEVENT
DTSTART;TZID=Asia/Tokyo:20240221T140000
DTEND;TZID=Asia/Tokyo:20240221T170000
DTSTAMP:20260423T004908
CREATED:20240125T104553Z
LAST-MODIFIED:20240125T104553Z
UID:4632-1708524000-1708534800@music773.com
SUMMARY:富世学舎　年少・年中　2月21日(水)
DESCRIPTION:保育園内リトミック\n【場所】富世学舎\n【日程】水曜日 14:00〜17:00\n【対象】年少・年中 \nお問い合わせはこちらからお願いいたします。
URL:https://music773.com/events/%e5%af%8c%e4%b8%96%e5%ad%a6%e8%88%8e%e3%80%80%e5%b9%b4%e5%b0%91%e3%83%bb%e5%b9%b4%e4%b8%ad%e3%80%802%e6%9c%8821%e6%97%a5%e6%b0%b4/
CATEGORIES:富世学舎
ATTACH;FMTTYPE=image/png:https://music773.com/wp-content/uploads/2024/01/富世学舎アイキャッチ画像.png
END:VEVENT
BEGIN:VEVENT
DTSTART;TZID=Asia/Tokyo:20240221T100000
DTEND;TZID=Asia/Tokyo:20240221T110000
DTSTAMP:20260423T004908
CREATED:20240125T105304Z
LAST-MODIFIED:20240125T105304Z
UID:4640-1708509600-1708513200@music773.com
SUMMARY:スマイル保育園　2月21日(水)
DESCRIPTION:保育園内リトミック\n【場所】スマイル保育園\n【日程】水曜日 10:00〜11:00 \nお問い合わせはこちらからお願いいたします。
URL:https://music773.com/events/%e3%82%b9%e3%83%9e%e3%82%a4%e3%83%ab%e4%bf%9d%e8%82%b2%e5%9c%92%e3%80%802%e6%9c%8821%e6%97%a5%e6%b0%b4/
CATEGORIES:スマイル保育園
ATTACH;FMTTYPE=image/png:https://music773.com/wp-content/uploads/2024/01/スマイル保育園アイキャッチ画像.png
END:VEVENT
BEGIN:VEVENT
DTSTART;TZID=Asia/Tokyo:20240219T140000
DTEND;TZID=Asia/Tokyo:20240219T170000
DTSTAMP:20260423T004908
CREATED:20240125T103051Z
LAST-MODIFIED:20240125T103051Z
UID:4614-1708351200-1708362000@music773.com
SUMMARY:富世学舎　年長　2月19日(月)
DESCRIPTION:保育園内リトミック\n【場所】富世学舎\n【日程】月曜日 14:00〜17:00\n【対象】年長 \nお問い合わせはこちらからお願いいたします。
URL:https://music773.com/events/%e5%af%8c%e4%b8%96%e5%ad%a6%e8%88%8e%e3%80%80%e5%b9%b4%e9%95%b7%e3%80%802%e6%9c%8819%e6%97%a5%e6%9c%88/
CATEGORIES:富世学舎
ATTACH;FMTTYPE=image/png:https://music773.com/wp-content/uploads/2024/01/富世学舎アイキャッチ画像.png
END:VEVENT
BEGIN:VEVENT
DTSTART;TZID=Asia/Tokyo:20240219T100000
DTEND;TZID=Asia/Tokyo:20240219T120000
DTSTAMP:20260423T004908
CREATED:20240123T103655Z
LAST-MODIFIED:20240125T110455Z
UID:4490-1708336800-1708344000@music773.com
SUMMARY:音癒リトミック　お預かり英語&リトミック　2月19日(月・祝))
DESCRIPTION:【満席 定員６組】\n【クラス】お預かり英語&リトミック（1歳半〜就園前）\n【日程】　金曜日　年間42回　10:00 ~ 12:00\n【料金】　月額10\,000円\n【場所】　音癒リトミック \nお問い合わせはこちらからお願いいたします。
URL:https://music773.com/events/%e9%9f%b3%e7%99%92%e3%83%aa%e3%83%88%e3%83%9f%e3%83%83%e3%82%af%e3%80%80%e3%81%8a%e9%a0%90%e3%81%8b%e3%82%8a%e8%8b%b1%e8%aa%9e%e3%83%aa%e3%83%88%e3%83%9f%e3%83%83%e3%82%af%e3%80%802%e6%9c%8819/
CATEGORIES:音癒リトミック
ATTACH;FMTTYPE=image/png:https://music773.com/wp-content/uploads/2024/01/音癒リトミックアイキャッチ画像.png
END:VEVENT
BEGIN:VEVENT
DTSTART;TZID=Asia/Tokyo:20240219T100000
DTEND;TZID=Asia/Tokyo:20240219T110000
DTSTAMP:20260423T004908
CREATED:20240125T083340Z
LAST-MODIFIED:20240125T083340Z
UID:4578-1708336800-1708340400@music773.com
SUMMARY:こどもの園こひつじ　2月19日(月)
DESCRIPTION:保育園内リトミック\n【場所】こどもの園こひつじ\n【日程】月曜日 10:00〜11:00 \nお問い合わせはこちらからお願いいたします。
URL:https://music773.com/events/%e3%81%93%e3%81%a9%e3%82%82%e3%81%ae%e5%9c%92%e3%81%93%e3%81%b2%e3%81%a4%e3%81%98%e3%80%802%e6%9c%8819%e6%97%a5%e6%9c%88/
CATEGORIES:こどもの園こひつじ
ATTACH;FMTTYPE=image/png:https://music773.com/wp-content/uploads/2024/01/こども園こひつじアイキャッチ画像.png
END:VEVENT
BEGIN:VEVENT
DTSTART;TZID=Asia/Tokyo:20240214T140000
DTEND;TZID=Asia/Tokyo:20240214T170000
DTSTAMP:20260423T004908
CREATED:20240125T104132Z
LAST-MODIFIED:20240125T111304Z
UID:4627-1707919200-1707930000@music773.com
SUMMARY:富世学舎　年少・年中　2月14日(水)
DESCRIPTION:保育園内リトミック\n【場所】富世学舎\n【日程】水曜日 14:00〜17:00\n【対象】年少・年中 \nお問い合わせはこちらからお願いいたします。
URL:https://music773.com/events/%e5%af%8c%e4%b8%96%e5%ad%a6%e8%88%8e%e3%80%80%e5%b9%b4%e5%b0%91%e3%83%bb%e5%b9%b4%e4%b8%ad%e3%80%802%e6%9c%8814%e6%97%a5%e6%b0%b4/
CATEGORIES:富世学舎
ATTACH;FMTTYPE=image/png:https://music773.com/wp-content/uploads/2024/01/富世学舎アイキャッチ画像.png
END:VEVENT
BEGIN:VEVENT
DTSTART;TZID=Asia/Tokyo:20240213T111500
DTEND;TZID=Asia/Tokyo:20240213T120000
DTSTAMP:20260423T004908
CREATED:20240123T095148Z
LAST-MODIFIED:20240123T121125Z
UID:4447-1707822900-1707825600@music773.com
SUMMARY:音癒リトミック　キッズクラス　2月13日(火)
DESCRIPTION:【満席 定員６組】\n【クラス】キッズクラス（歩行安定〜3歳）\n【日程】　火曜日　月2回　11:15 ~ 12:00\n【料金】　月額3\,000円\n【場所】　音癒リトミック \nお問い合わせはこちらからお願いいたします。
URL:https://music773.com/events/%e9%9f%b3%e7%99%92%e3%83%aa%e3%83%88%e3%83%9f%e3%83%83%e3%82%af%e3%80%80%e3%82%ad%e3%83%83%e3%82%ba%e3%82%af%e3%83%a9%e3%82%b9%e3%80%802%e6%9c%8813%e6%97%a5%e7%81%ab/
CATEGORIES:音癒リトミック
ATTACH;FMTTYPE=image/png:https://music773.com/wp-content/uploads/2024/01/音癒リトミックアイキャッチ画像.png
END:VEVENT
BEGIN:VEVENT
DTSTART;TZID=Asia/Tokyo:20240213T101500
DTEND;TZID=Asia/Tokyo:20240213T110000
DTSTAMP:20260423T004908
CREATED:20240117T182043Z
LAST-MODIFIED:20240123T121106Z
UID:3937-1707819300-1707822000@music773.com
SUMMARY:音癒リトミック　ベビークラス　2月13日(火)
DESCRIPTION:【満席 定員６組】\n【クラス】ベビークラス（首が座った３ヶ月〜あるきはじめ）\n【日程】　火曜日　月１回　10:15 ~ 11:00\n【料金】　月額1\,500円\n【場所】　音癒リトミック \nお問い合わせはこちらからお願いいたします。
URL:https://music773.com/events/%e9%9f%b3%e7%99%92%e3%83%aa%e3%83%88%e3%83%9f%e3%83%83%e3%82%af%e3%80%80%e3%83%99%e3%83%93%e3%83%bc%e3%82%af%e3%83%a9%e3%82%b9%e3%80%802%e6%9c%8813%e6%97%a5%e7%81%ab/
CATEGORIES:音癒リトミック
ATTACH;FMTTYPE=image/png:https://music773.com/wp-content/uploads/2024/01/音癒リトミックアイキャッチ画像.png
END:VEVENT
BEGIN:VEVENT
DTSTART;TZID=Asia/Tokyo:20240212T103000
DTEND;TZID=Asia/Tokyo:20240212T113000
DTSTAMP:20260423T004908
CREATED:20240124T141158Z
LAST-MODIFIED:20240125T110407Z
UID:4494-1707733800-1707737400@music773.com
SUMMARY:アートリトミック　2月12日(月・祝)
DESCRIPTION:2月12日(月・祝)は、10:30 ~ 11:30に開催します。\n月一回開催中！リトミックとアートを組み合わせた新感覚のイベントです♫\n自由な発想で思いっきり頭と体を動かして遊びましょう！ \nお問い合わせはこちらからお願いいたします。
URL:https://music773.com/events/%e3%82%a2%e3%83%bc%e3%83%88%e3%83%aa%e3%83%88%e3%83%9f%e3%83%83%e3%82%af%e3%80%802%e6%9c%8812%e6%97%a5%e6%9c%88%e3%83%bb%e7%a5%9d/
CATEGORIES:アートリトミック
ATTACH;FMTTYPE=image/png:https://music773.com/wp-content/uploads/2024/01/アートリトミックアイキャッチ画像.png
END:VEVENT
BEGIN:VEVENT
DTSTART;TZID=Asia/Tokyo:20240209T100000
DTEND;TZID=Asia/Tokyo:20240209T120000
DTSTAMP:20260423T004908
CREATED:20240123T103523Z
LAST-MODIFIED:20240123T120959Z
UID:4488-1707472800-1707480000@music773.com
SUMMARY:音癒リトミック　お預かり英語&リトミック　2月9日(金)
DESCRIPTION:【満席 定員６組】\n【クラス】お預かり英語&リトミック（1歳半〜就園前）\n【日程】　金曜日　年間42回　10:00 ~ 12:00\n【料金】　月額10\,000円\n【場所】　音癒リトミック \nお問い合わせはこちらからお願いいたします。
URL:https://music773.com/events/%e9%9f%b3%e7%99%92%e3%83%aa%e3%83%88%e3%83%9f%e3%83%83%e3%82%af%e3%80%80%e3%81%8a%e9%a0%90%e3%81%8b%e3%82%8a%e8%8b%b1%e8%aa%9e%e3%83%aa%e3%83%88%e3%83%9f%e3%83%83%e3%82%af%e3%80%802%e6%9c%889/
CATEGORIES:音癒リトミック
ATTACH;FMTTYPE=image/png:https://music773.com/wp-content/uploads/2024/01/音癒リトミックアイキャッチ画像.png
END:VEVENT
BEGIN:VEVENT
DTSTART;TZID=Asia/Tokyo:20240207T140000
DTEND;TZID=Asia/Tokyo:20240207T170000
DTSTAMP:20260423T004908
CREATED:20240125T103932Z
LAST-MODIFIED:20240125T104241Z
UID:4625-1707314400-1707325200@music773.com
SUMMARY:富世学舎　年少・年中　2月7日(水)
DESCRIPTION:保育園内リトミック\n【場所】富世学舎\n【日程】水曜日 14:00〜17:00\n【対象】年少・年中 \nお問い合わせはこちらからお願いいたします。
URL:https://music773.com/events/%e5%af%8c%e4%b8%96%e5%ad%a6%e8%88%8e%e3%80%80%e5%b9%b4%e5%b0%91%e3%83%bb%e5%b9%b4%e4%b8%ad%e3%80%802%e6%9c%887%e6%97%a5%e6%b0%b4/
CATEGORIES:富世学舎
ATTACH;FMTTYPE=image/png:https://music773.com/wp-content/uploads/2024/01/富世学舎アイキャッチ画像.png
END:VEVENT
BEGIN:VEVENT
DTSTART;TZID=Asia/Tokyo:20240207T100000
DTEND;TZID=Asia/Tokyo:20240207T110000
DTSTAMP:20260423T004908
CREATED:20240125T105118Z
LAST-MODIFIED:20240125T105118Z
UID:4638-1707300000-1707303600@music773.com
SUMMARY:スマイル保育園　2月7日(水)
DESCRIPTION:保育園内リトミック\n【場所】スマイル保育園\n【日程】水曜日 10:00〜11:00 \nお問い合わせはこちらからお願いいたします。
URL:https://music773.com/events/%e3%82%b9%e3%83%9e%e3%82%a4%e3%83%ab%e4%bf%9d%e8%82%b2%e5%9c%92%e3%80%802%e6%9c%887%e6%97%a5%e6%b0%b4/
CATEGORIES:スマイル保育園
ATTACH;FMTTYPE=image/png:https://music773.com/wp-content/uploads/2024/01/スマイル保育園アイキャッチ画像.png
END:VEVENT
BEGIN:VEVENT
DTSTART;TZID=Asia/Tokyo:20240205T140000
DTEND;TZID=Asia/Tokyo:20240205T170000
DTSTAMP:20260423T004908
CREATED:20240125T085910Z
LAST-MODIFIED:20240125T102717Z
UID:4595-1707141600-1707152400@music773.com
SUMMARY:富世学舎　年長　2月5日(月)
DESCRIPTION:保育園内リトミック\n【場所】富世学舎\n【日程】月曜日 14:00〜17:00\n【対象】年長 \nお問い合わせはこちらからお願いいたします。
URL:https://music773.com/events/%e5%af%8c%e4%b8%96%e5%ad%a6%e8%88%8e%e3%80%80%e5%b9%b4%e9%95%b7%e3%80%802%e6%9c%885%e6%97%a5%e6%9c%88/
CATEGORIES:富世学舎
ATTACH;FMTTYPE=image/png:https://music773.com/wp-content/uploads/2024/01/富世学舎アイキャッチ画像.png
END:VEVENT
BEGIN:VEVENT
DTSTART;TZID=Asia/Tokyo:20240205T100000
DTEND;TZID=Asia/Tokyo:20240205T110000
DTSTAMP:20260423T004908
CREATED:20240125T083239Z
LAST-MODIFIED:20240125T083239Z
UID:4576-1707127200-1707130800@music773.com
SUMMARY:こどもの園こひつじ　2月5日(月)
DESCRIPTION:保育園内リトミック\n【場所】こどもの園こひつじ\n【日程】月曜日 10:00〜11:00 \nお問い合わせはこちらからお願いいたします。
URL:https://music773.com/events/%e3%81%93%e3%81%a9%e3%82%82%e3%81%ae%e5%9c%92%e3%81%93%e3%81%b2%e3%81%a4%e3%81%98%e3%80%802%e6%9c%885%e6%97%a5%e6%9c%88/
CATEGORIES:こどもの園こひつじ
ATTACH;FMTTYPE=image/png:https://music773.com/wp-content/uploads/2024/01/こども園こひつじアイキャッチ画像.png
END:VEVENT
BEGIN:VEVENT
DTSTART;TZID=Asia/Tokyo:20240202T100000
DTEND;TZID=Asia/Tokyo:20240202T120000
DTSTAMP:20260423T004908
CREATED:20240123T103358Z
LAST-MODIFIED:20240123T120938Z
UID:4486-1706868000-1706875200@music773.com
SUMMARY:音癒リトミック　お預かり英語&リトミック　2月2日(金)
DESCRIPTION:【満席 定員６組】\n【クラス】お預かり英語&リトミック（1歳半〜就園前）\n【日程】　金曜日　年間42回　10:00 ~ 12:00\n【料金】　月額10\,000円\n【場所】　音癒リトミック \nお問い合わせはこちらからお願いいたします。
URL:https://music773.com/events/%e9%9f%b3%e7%99%92%e3%83%aa%e3%83%88%e3%83%9f%e3%83%83%e3%82%af%e3%80%80%e3%81%8a%e9%a0%90%e3%81%8b%e3%82%8a%e8%8b%b1%e8%aa%9e%e3%83%aa%e3%83%88%e3%83%9f%e3%83%83%e3%82%af%e3%80%802%e6%9c%882/
CATEGORIES:音癒リトミック
ATTACH;FMTTYPE=image/png:https://music773.com/wp-content/uploads/2024/01/音癒リトミックアイキャッチ画像.png
END:VEVENT
BEGIN:VEVENT
DTSTART;TZID=Asia/Tokyo:20240131T140000
DTEND;TZID=Asia/Tokyo:20240131T170000
DTSTAMP:20260423T004908
CREATED:20240125T103758Z
LAST-MODIFIED:20240125T103758Z
UID:4623-1706709600-1706720400@music773.com
SUMMARY:富世学舎　年少・年中　1月31日(水)
DESCRIPTION:保育園内リトミック\n【場所】富世学舎\n【日程】水曜日 14:00〜17:00\n【対象】年少・年中 \nお問い合わせはこちらからお願いいたします。
URL:https://music773.com/events/%e5%af%8c%e4%b8%96%e5%ad%a6%e8%88%8e%e3%80%80%e5%b9%b4%e5%b0%91%e3%83%bb%e5%b9%b4%e4%b8%ad%e3%80%801%e6%9c%8831%e6%97%a5%e6%b0%b4/
CATEGORIES:富世学舎
ATTACH;FMTTYPE=image/png:https://music773.com/wp-content/uploads/2024/01/富世学舎アイキャッチ画像.png
END:VEVENT
BEGIN:VEVENT
DTSTART;TZID=Asia/Tokyo:20240129T140000
DTEND;TZID=Asia/Tokyo:20240129T170000
DTSTAMP:20260423T004908
CREATED:20240125T084347Z
LAST-MODIFIED:20240125T102942Z
UID:4587-1706536800-1706547600@music773.com
SUMMARY:富世学舎　年長　1月29日(月)
DESCRIPTION:保育園内リトミック\n【場所】富世学舎\n【日程】月曜日 14:00〜17:00\n【対象】年長 \nお問い合わせはこちらからお願いいたします。
URL:https://music773.com/events/%e5%af%8c%e4%b8%96%e5%ad%a6%e8%88%8e%e3%80%801%e6%9c%8829%e6%97%a5%e6%9c%88/
CATEGORIES:富世学舎
ATTACH;FMTTYPE=image/png:https://music773.com/wp-content/uploads/2024/01/富世学舎アイキャッチ画像.png
END:VEVENT
BEGIN:VEVENT
DTSTART;TZID=Asia/Tokyo:20240129T100000
DTEND;TZID=Asia/Tokyo:20240129T110000
DTSTAMP:20260423T004908
CREATED:20240124T142242Z
LAST-MODIFIED:20240124T142242Z
UID:4574-1706522400-1706526000@music773.com
SUMMARY:こどもの園こひつじ　1月29日(月)
DESCRIPTION:保育園内リトミック\n【場所】こどもの園こひつじ\n【日程】月曜日 10:00〜11:00 \nお問い合わせはこちらからお願いいたします。
URL:https://music773.com/events/%e3%81%93%e3%81%a9%e3%82%82%e3%81%ae%e5%9c%92%e3%81%93%e3%81%b2%e3%81%a4%e3%81%98%e3%80%801%e6%9c%8829%e6%97%a5%e6%9c%88/
CATEGORIES:こどもの園こひつじ
ATTACH;FMTTYPE=image/png:https://music773.com/wp-content/uploads/2024/01/こども園こひつじアイキャッチ画像.png
END:VEVENT
BEGIN:VEVENT
DTSTART;TZID=Asia/Tokyo:20240128T100000
DTEND;TZID=Asia/Tokyo:20240128T110000
DTSTAMP:20260423T004908
CREATED:20240123T103957Z
LAST-MODIFIED:20240124T141052Z
UID:4492-1706436000-1706439600@music773.com
SUMMARY:アートリトミック　1月28日(日)
DESCRIPTION:1月28日(日)は、10:00 ~ 11:00に開催します。\n月一回開催中！リトミックとアートを組み合わせた新感覚のイベントです♫\n自由な発想で思いっきり頭と体を動かして遊びましょう！ \nお問い合わせはこちらからお願いいたします。
URL:https://music773.com/events/%e3%82%a2%e3%83%bc%e3%83%88%e3%83%aa%e3%83%88%e3%83%9f%e3%83%83%e3%82%af%e3%80%801%e6%9c%8828%e6%97%a5%e6%97%a5/
CATEGORIES:アートリトミック
ATTACH;FMTTYPE=image/png:https://music773.com/wp-content/uploads/2024/01/アートリトミックアイキャッチ画像.png
END:VEVENT
BEGIN:VEVENT
DTSTART;TZID=Asia/Tokyo:20240126T100000
DTEND;TZID=Asia/Tokyo:20240126T120000
DTSTAMP:20260423T004908
CREATED:20240123T103225Z
LAST-MODIFIED:20240123T120914Z
UID:4484-1706263200-1706270400@music773.com
SUMMARY:音癒リトミック　お預かり英語&リトミック　1月26日(金)
DESCRIPTION:【満席 定員６組】\n【クラス】お預かり英語&リトミック（1歳半〜就園前）\n【日程】　金曜日　年間42回　10:00 ~ 12:00\n【料金】　月額10\,000円\n【場所】　音癒リトミック \nお問い合わせはこちらからお願いいたします。
URL:https://music773.com/events/%e9%9f%b3%e7%99%92%e3%83%aa%e3%83%88%e3%83%9f%e3%83%83%e3%82%af%e3%80%80%e3%81%8a%e9%a0%90%e3%81%8b%e3%82%8a%e8%8b%b1%e8%aa%9e%e3%83%aa%e3%83%88%e3%83%9f%e3%83%83%e3%82%af%e3%80%801%e6%9c%8826/
CATEGORIES:音癒リトミック
ATTACH;FMTTYPE=image/png:https://music773.com/wp-content/uploads/2024/01/音癒リトミックアイキャッチ画像.png
END:VEVENT
BEGIN:VEVENT
DTSTART;TZID=Asia/Tokyo:20240124T140000
DTEND;TZID=Asia/Tokyo:20240124T170000
DTSTAMP:20260423T004908
CREATED:20240125T103647Z
LAST-MODIFIED:20240125T103647Z
UID:4621-1706104800-1706115600@music773.com
SUMMARY:富世学舎　年少・年中　1月24日(水)
DESCRIPTION:保育園内リトミック\n【場所】富世学舎\n【日程】水曜日 14:00〜17:00\n【対象】年少・年中 \nお問い合わせはこちらからお願いいたします。
URL:https://music773.com/events/%e5%af%8c%e4%b8%96%e5%ad%a6%e8%88%8e%e3%80%80%e5%b9%b4%e5%b0%91%e3%83%bb%e5%b9%b4%e4%b8%ad%e3%80%801%e6%9c%8824%e6%97%a5%e6%b0%b4/
CATEGORIES:富世学舎
ATTACH;FMTTYPE=image/png:https://music773.com/wp-content/uploads/2024/01/富世学舎アイキャッチ画像.png
END:VEVENT
BEGIN:VEVENT
DTSTART;TZID=Asia/Tokyo:20240123T111500
DTEND;TZID=Asia/Tokyo:20240123T120000
DTSTAMP:20260423T004908
CREATED:20240117T183015Z
LAST-MODIFIED:20240123T120858Z
UID:3945-1706008500-1706011200@music773.com
SUMMARY:音癒リトミック　キッズクラス　1月23日(火)
DESCRIPTION:【満席 定員６組】\n【クラス】キッズクラス（歩行安定〜3歳）\n【日程】　火曜日　月2回　11:15 ~ 12:00\n【料金】　月額3\,000円\n【場所】　音癒リトミック \nお問い合わせはこちらからお願いいたします。
URL:https://music773.com/events/%e9%9f%b3%e7%99%92%e3%83%aa%e3%83%88%e3%83%9f%e3%83%83%e3%82%af%e3%80%80%e3%82%ad%e3%83%83%e3%82%ba%e3%82%af%e3%83%a9%e3%82%b9%e3%80%801%e6%9c%8823%e6%97%a5%e7%81%ab/
CATEGORIES:音癒リトミック
ATTACH;FMTTYPE=image/png:https://music773.com/wp-content/uploads/2024/01/音癒リトミックアイキャッチ画像.png
END:VEVENT
BEGIN:VEVENT
DTSTART;TZID=Asia/Tokyo:20240122T140000
DTEND;TZID=Asia/Tokyo:20240122T170000
DTSTAMP:20260423T004908
CREATED:20240125T084130Z
LAST-MODIFIED:20240125T102922Z
UID:4585-1705932000-1705942800@music773.com
SUMMARY:富世学舎　年長　1月22日(月)
DESCRIPTION:保育園内リトミック\n【場所】富世学舎\n【日程】月曜日 14:00〜17:00\n【対象】年長 \nお問い合わせはこちらからお願いいたします。
URL:https://music773.com/events/%e5%af%8c%e4%b8%96%e5%ad%a6%e8%88%8e%e3%80%80%e5%b9%b4%e9%95%b7%e3%80%801%e6%9c%8822%e6%97%a5%e6%9c%88/
CATEGORIES:富世学舎
ATTACH;FMTTYPE=image/png:https://music773.com/wp-content/uploads/2024/01/富世学舎アイキャッチ画像.png
END:VEVENT
BEGIN:VEVENT
DTSTART;TZID=Asia/Tokyo:20240122T100000
DTEND;TZID=Asia/Tokyo:20240122T110000
DTSTAMP:20260423T004908
CREATED:20240124T142124Z
LAST-MODIFIED:20240124T142124Z
UID:4572-1705917600-1705921200@music773.com
SUMMARY:こどもの園こひつじ　1月22日(月)
DESCRIPTION:保育園内リトミック\n【場所】こどもの園こひつじ\n【日程】月曜日 10:00〜11:00 \nお問い合わせはこちらからお願いいたします。
URL:https://music773.com/events/%e3%81%93%e3%81%a9%e3%82%82%e3%81%ae%e5%9c%92%e3%81%93%e3%81%b2%e3%81%a4%e3%81%98%e3%80%801%e6%9c%8822%e6%97%a5%e6%9c%88/
CATEGORIES:こどもの園こひつじ
ATTACH;FMTTYPE=image/png:https://music773.com/wp-content/uploads/2024/01/こども園こひつじアイキャッチ画像.png
END:VEVENT
BEGIN:VEVENT
DTSTART;TZID=Asia/Tokyo:20240119T100000
DTEND;TZID=Asia/Tokyo:20240119T120000
DTSTAMP:20260423T004908
CREATED:20240123T101745Z
LAST-MODIFIED:20240123T120816Z
UID:4454-1705658400-1705665600@music773.com
SUMMARY:音癒リトミック　お預かり英語&リトミック　1月19日(金)
DESCRIPTION:【満席 定員６組】\n【クラス】お預かり英語&リトミック（1歳半〜就園前）\n【日程】　金曜日　年間42回　10:00 ~ 12:00\n【料金】　月額10\,000円\n【場所】　音癒リトミック \nお問い合わせはこちらからお願いいたします。
URL:https://music773.com/events/%e9%9f%b3%e7%99%92%e3%83%aa%e3%83%88%e3%83%9f%e3%83%83%e3%82%af%e3%80%80%e3%81%8a%e9%a0%90%e3%81%8b%e3%82%8a%e8%8b%b1%e8%aa%9e%e3%83%aa%e3%83%88%e3%83%9f%e3%83%83%e3%82%af%e3%80%801%e6%9c%8819/
CATEGORIES:音癒リトミック
ATTACH;FMTTYPE=image/png:https://music773.com/wp-content/uploads/2024/01/音癒リトミックアイキャッチ画像.png
END:VEVENT
BEGIN:VEVENT
DTSTART;TZID=Asia/Tokyo:20240117T140000
DTEND;TZID=Asia/Tokyo:20240117T170000
DTSTAMP:20260423T004908
CREATED:20240125T103456Z
LAST-MODIFIED:20240125T103456Z
UID:4619-1705500000-1705510800@music773.com
SUMMARY:富世学舎　年少・年中　1月17日(水)
DESCRIPTION:保育園内リトミック\n【場所】富世学舎\n【日程】水曜日 14:00〜17:00\n【対象】年少・年中 \nお問い合わせはこちらからお願いいたします。
URL:https://music773.com/events/%e5%af%8c%e4%b8%96%e5%ad%a6%e8%88%8e%e3%80%80%e5%b9%b4%e5%b0%91%e3%83%bb%e5%b9%b4%e4%b8%ad%e3%80%801%e6%9c%8817%e6%97%a5%e6%b0%b4/
CATEGORIES:富世学舎
ATTACH;FMTTYPE=image/png:https://music773.com/wp-content/uploads/2024/01/富世学舎アイキャッチ画像.png
END:VEVENT
BEGIN:VEVENT
DTSTART;TZID=Asia/Tokyo:20240117T100000
DTEND;TZID=Asia/Tokyo:20240117T110000
DTSTAMP:20260423T004908
CREATED:20240125T104941Z
LAST-MODIFIED:20240125T104941Z
UID:4636-1705485600-1705489200@music773.com
SUMMARY:スマイル保育園　1月17日(水)
DESCRIPTION:保育園内リトミック\n【場所】スマイル保育園\n【日程】水曜日 10:00〜11:00 \nお問い合わせはこちらからお願いいたします。
URL:https://music773.com/events/%e3%82%b9%e3%83%9e%e3%82%a4%e3%83%ab%e4%bf%9d%e8%82%b2%e5%9c%92%e3%80%801%e6%9c%8817%e6%97%a5%e6%b0%b4/
CATEGORIES:スマイル保育園
ATTACH;FMTTYPE=image/png:https://music773.com/wp-content/uploads/2024/01/スマイル保育園アイキャッチ画像.png
END:VEVENT
BEGIN:VEVENT
DTSTART;TZID=Asia/Tokyo:20240115T140000
DTEND;TZID=Asia/Tokyo:20240115T170000
DTSTAMP:20260423T004908
CREATED:20240125T083959Z
LAST-MODIFIED:20240125T102855Z
UID:4583-1705327200-1705338000@music773.com
SUMMARY:富世学舎　年長　1月15日(月)
DESCRIPTION:保育園内リトミック\n【場所】富世学舎\n【日程】月曜日 14:00〜17:00\n【対象】年長 \nお問い合わせはこちらからお願いいたします。
URL:https://music773.com/events/%e5%af%8c%e4%b8%96%e5%ad%a6%e8%88%8e%e3%80%80%e5%b9%b4%e9%95%b7%e3%80%801%e6%9c%8815%e6%97%a5%e6%9c%88/
CATEGORIES:富世学舎
ATTACH;FMTTYPE=image/png:https://music773.com/wp-content/uploads/2024/01/富世学舎アイキャッチ画像.png
END:VEVENT
BEGIN:VEVENT
DTSTART;TZID=Asia/Tokyo:20240115T100000
DTEND;TZID=Asia/Tokyo:20240115T110000
DTSTAMP:20260423T004908
CREATED:20240124T141347Z
LAST-MODIFIED:20240124T141347Z
UID:4497-1705312800-1705316400@music773.com
SUMMARY:こどもの園こひつじ　1月15日(月)
DESCRIPTION:保育園内リトミック\n【場所】こどもの園こひつじ\n【日程】月曜日 10:00〜11:00 \nお問い合わせはこちらからお願いいたします。
URL:https://music773.com/events/%e3%81%93%e3%81%a9%e3%82%82%e3%81%ae%e5%9c%92%e3%81%93%e3%81%b2%e3%81%a4%e3%81%98%e3%80%801%e6%9c%8815%e6%97%a5%e6%9c%88/
CATEGORIES:こどもの園こひつじ
ATTACH;FMTTYPE=image/png:https://music773.com/wp-content/uploads/2024/01/こども園こひつじアイキャッチ画像.png
END:VEVENT
BEGIN:VEVENT
DTSTART;TZID=Asia/Tokyo:20240112T100000
DTEND;TZID=Asia/Tokyo:20240112T120000
DTSTAMP:20260423T004908
CREATED:20240123T101608Z
LAST-MODIFIED:20240123T120742Z
UID:4452-1705053600-1705060800@music773.com
SUMMARY:音癒リトミック　お預かり英語&リトミック　1月12日(金)
DESCRIPTION:【満席 定員６組】\n【クラス】お預かり英語&リトミック（1歳半〜就園前）\n【日程】　金曜日　年間42回　10:00 ~ 12:00\n【料金】　月額10\,000円\n【場所】　音癒リトミック \nお問い合わせはこちらからお願いいたします。
URL:https://music773.com/events/%e9%9f%b3%e7%99%92%e3%83%aa%e3%83%88%e3%83%9f%e3%83%83%e3%82%af%e3%80%80%e3%81%8a%e9%a0%90%e3%81%8b%e3%82%8a%e8%8b%b1%e8%aa%9e%e3%83%aa%e3%83%88%e3%83%9f%e3%83%83%e3%82%af%e3%80%801%e6%9c%8812/
CATEGORIES:音癒リトミック
ATTACH;FMTTYPE=image/png:https://music773.com/wp-content/uploads/2024/01/音癒リトミックアイキャッチ画像.png
END:VEVENT
END:VCALENDAR