BEGIN:VCALENDAR
VERSION:2.0
PRODID:-//リトミック&amp;ピアノ音楽教室 music room flowers - ECPv6.3.3.1//NONSGML v1.0//EN
CALSCALE:GREGORIAN
METHOD:PUBLISH
X-ORIGINAL-URL:https://music773.com
X-WR-CALDESC:リトミック&amp;ピアノ音楽教室 music room flowers のイベント
REFRESH-INTERVAL;VALUE=DURATION:PT1H
X-Robots-Tag:noindex
X-PUBLISHED-TTL:PT1H
BEGIN:VTIMEZONE
TZID:Asia/Tokyo
BEGIN:STANDARD
TZOFFSETFROM:+0900
TZOFFSETTO:+0900
TZNAME:JST
DTSTART:20240101T000000
END:STANDARD
END:VTIMEZONE
BEGIN:VEVENT
DTSTART;TZID=Asia/Tokyo:20240304T130000
DTEND;TZID=Asia/Tokyo:20240304T170000
DTSTAMP:20260425T000859
CREATED:20240310T022315Z
LAST-MODIFIED:20240310T022315Z
UID:4683-1709557200-1709571600@music773.com
SUMMARY:富世学舎　年長
DESCRIPTION:保育園内リトミック\n【場所】富世学舎\n【日程】月曜日 14:00〜17:00\n【対象】年長 \nお問い合わせはこちらからお願いいたします。
URL:https://music773.com/events/%e5%af%8c%e4%b8%96%e5%ad%a6%e8%88%8e%e3%80%80%e5%b9%b4%e9%95%b7-2/
CATEGORIES:富世学舎
ATTACH;FMTTYPE=image/png:https://music773.com/wp-content/uploads/2024/01/富世学舎アイキャッチ画像.png
END:VEVENT
END:VCALENDAR